BEGIN:VCALENDAR
VERSION:2.0
PRODID:icalendar-ruby
CALSCALE:GREGORIAN
METHOD:PUBLISH
BEGIN:VEVENT
DTSTAMP:20260420T080912Z
UID:14-352287@stpetersanglican.ca
DTSTART:20260811T153000Z
DTEND:20260811T163000Z
CLASS:PUBLIC
CREATED:20260420T015005
DESCRIPTION:
LAST-MODIFIED:20260420T015005
LOCATION:Online via Zoom until April 28th 
SUMMARY:Meditation Group - in person beginning May 5th
URL;VALUE=URI:https://www.stpetersanglican.ca/events/meditation-group-in-pe
 rson-beginning-may-5th/2026-08-11
ATTACH;FILENAME=close-up-kid-meditating-mat.jpg;FMTTYPE=image/jpeg:https://
 dq5pwpg1q8ru0.cloudfront.net/2025/03/06/00/58/30/21ac274f-bc20-4137-9f5f-3
 709a073f6c7/close-up-kid-meditating-mat.jpg
END:VEVENT
END:VCALENDAR
