BEGIN:VCALENDAR
VERSION:2.0
PRODID:icalendar-ruby
CALSCALE:GREGORIAN
METHOD:PUBLISH
BEGIN:VEVENT
DTSTAMP:20260425T144956Z
UID:29-360217@stpetersanglican.ca
DTSTART:20260507T000000Z
DTEND:20260507T013000Z
CLASS:PUBLIC
CREATED:20260424T170722
DESCRIPTION:St. Peter’s Eastertide Study Series: “The Bible and the Mar
 ginalized” led by Dr. Don Burke\nOne of the dominant features of the Bib
 le is its concern for the marginalized\, those who for various reasons res
 ide on the fringes of society and suffer the consequences of their social\
 , economic\, political\, and religious marginalization.  In these studies
  we will explore together what the Bible teaches about the character of Go
 d and how the people of God reflect that divine character (or not) in thei
 r responses to those who are marginalized. All studies will take place at 
 St. Peter’s Anglican.\nPart 3: May 6 @ 7PM The Prophets\, Justice and Ri
 ghteousness: When Community Fails\nPart 4: May 13@ 7PM The Prophetic Jesus
 : the Kingdom Come\n 
LAST-MODIFIED:20260424T170722
LOCATION:St. Peters Anglican Church\, 755 Elm St\, Winnipeg\, MB
SUMMARY:The Bible and the Marginalized
URL;VALUE=URI:https://www.stpetersanglican.ca/events/the-bible-and-the-marg
 inalized/2026-05-06
ATTACH;FILENAME=pexels-joicerivas-7933044.jpg;FMTTYPE=image/jpeg:https://dq
 5pwpg1q8ru0.cloudfront.net/2026/04/01/00/53/43/4752ebda-81ba-48f1-907c-da0
 cc48c46ac/pexels-joicerivas-7933044.jpg
END:VEVENT
END:VCALENDAR
